BEGIN:VCALENDAR
VERSION:2.0
PRODID:-//Michigan Circuit Court Admin - ECPv6.15.17.1//NONSGML v1.0//EN
CALSCALE:GREGORIAN
METHOD:PUBLISH
X-WR-CALNAME:Michigan Circuit Court Admin
X-ORIGINAL-URL:https://micircuitcourtadmin.com
X-WR-CALDESC:Events for Michigan Circuit Court Admin
REFRESH-INTERVAL;VALUE=DURATION:PT1H
X-Robots-Tag:noindex
X-PUBLISHED-TTL:PT1H
BEGIN:VTIMEZONE
TZID:America/Detroit
BEGIN:DAYLIGHT
TZOFFSETFROM:-0500
TZOFFSETTO:-0400
TZNAME:EDT
DTSTART:20240310T070000
END:DAYLIGHT
BEGIN:STANDARD
TZOFFSETFROM:-0400
TZOFFSETTO:-0500
TZNAME:EST
DTSTART:20241103T060000
END:STANDARD
BEGIN:DAYLIGHT
TZOFFSETFROM:-0500
TZOFFSETTO:-0400
TZNAME:EDT
DTSTART:20250309T070000
END:DAYLIGHT
BEGIN:STANDARD
TZOFFSETFROM:-0400
TZOFFSETTO:-0500
TZNAME:EST
DTSTART:20251102T060000
END:STANDARD
BEGIN:DAYLIGHT
TZOFFSETFROM:-0500
TZOFFSETTO:-0400
TZNAME:EDT
DTSTART:20260308T070000
END:DAYLIGHT
BEGIN:STANDARD
TZOFFSETFROM:-0400
TZOFFSETTO:-0500
TZNAME:EST
DTSTART:20261101T060000
END:STANDARD
END:VTIMEZONE
BEGIN:VEVENT
DTSTART;TZID=America/Detroit:20251007T190000
DTEND;TZID=America/Detroit:20251010T110000
DTSTAMP:20260420T082405
CREATED:20250819T160342Z
LAST-MODIFIED:20250819T163232Z
UID:1216-1759863600-1760094000@micircuitcourtadmin.com
SUMMARY:The 2025 Court Managers Conference
DESCRIPTION:You are unauthorized to view this page. \n  \n  \n            \n\n                       \n            \n        \n                              Username\n        \n        \n      \n      \n        \n          Password\n          \n            \n            \n              \n            \n          \n        \n      \n            \n         Remember Me\n      \n       \n      \n        \n        \n        \n        \n      \n    \n     \n    \n        \n          Forgot Password
URL:https://micircuitcourtadmin.com/event/the-2025-court-managers-conference/
LOCATION:Shanty Creek Resort\, 5780 Shanty Creek Road\, Bellaire\, MI\, 49615\, United States
CATEGORIES:Conferences
ATTACH;FMTTYPE=image/webp:https://micircuitcourtadmin.com/wp-content/uploads/2025/08/2025-MCMC-Flyer-Key-events-and-information.webp
END:VEVENT
END:VCALENDAR